BEGIN:VCALENDAR
PRODID:-//github.com/rianjs/ical.net//NONSGML ical.net 4.0//EN
VERSION:2.0
BEGIN:VTIMEZONE
TZID:Pacific Standard Time
X-LIC-LOCATION:America/Los_Angeles
BEGIN:STANDARD
DTSTART:20241103T020000
RRULE:FREQ=YEARLY;BYDAY=1SU;BYMONTH=11
TZNAME:PST
TZOFFSETFROM:-0700
TZOFFSETTO:-0800
END:STANDARD
BEGIN:DAYLIGHT
DTSTART:20250309T020000
RRULE:FREQ=YEARLY;BYDAY=2SU;BYMONTH=3
TZNAME:PDT
TZOFFSETFROM:-0800
TZOFFSETTO:-0700
END:DAYLIGHT
END:VTIMEZONE
BEGIN:VEVENT
DESCRIPTION:A virtual member-exclusive series discussing relevant CAE topi
 cs.\n
DTEND;TZID=Pacific Standard Time:20260318T113000
DTSTAMP:20260422T085606Z
DTSTART;TZID=Pacific Standard Time:20260318T103000
LOCATION:Join us on Zoom
ORGANIZER;CN=;SENT-BY="mailto:":
SEQUENCE:0
SUMMARY:Associations West: AW Asks - What's the Right Employment Model for
  Your Association: Contract or At-Will?
UID:b12107d2-d5af-4efc-981e-6df59f1b8826
END:VEVENT
END:VCALENDAR
